BEGIN:VCALENDAR
VERSION:2.0
PRODID:-//jEvents 2.0 for Joomla//EN
CALSCALE:GREGORIAN
METHOD:PUBLISH
BEGIN:VEVENT
UID:121c18a7bb60ed064c959e467b4e4f6e
CATEGORIES:Pasākumi
CREATED:20250424T102602
SUMMARY:APU pasākums "Nakts skolā 2025""
URL;VALUE=URI:https://draudzigavsk.liepaja.edu.lv/index.php/aktualitates/kalendars/notiku
 ma-detaļas/278/-/apu-pasakums-nakts-skola-2025?tmpl=component
DESCRIPTION: Šis notikums tika importēts no: https://draudzigavsk.liepaja.edu.lv/index.
 php/aktualitates/kalendars/notikuma-detaļas/278/-/apu-pasakums-nakts-skola-
 2025?tmpl=component (https://draudzigavsk.liepaja.edu.lv/index.php/aktualit
 ates/kalendars/notikuma-detaļas/278/-/apu-pasakums-nakts-skola-2025?tmpl=co
 mponent)
X-ALT-DESC;FMTTYPE=text/html: <a href="https://draudzigavsk.liepaja.edu.lv/index.php/aktualitates/kalend
 ars/notikuma-detaļas/278/-/apu-pasakums-nakts-skola-2025?tmpl=component">Ši
 s notikums tika importēts no: https://draudzigavsk.liepaja.edu.lv/index.php
 /aktualitates/kalendars/notikuma-detaļas/278/-/apu-pasakums-nakts-skola-202
 5?tmpl=component</a>DTSTAMP:20260421T112928
DTSTART:20250523T150000
SEQUENCE:0
TRANSP:OPAQUE
END:VEVENT
END:VCALENDAR