BEGIN:VCALENDAR
VERSION:2.0
PRODID:-//jEvents 2.0 for Joomla//EN
CALSCALE:GREGORIAN
METHOD:PUBLISH
BEGIN:VEVENT
UID:174a0fb8e9fc2d21abf95daff8b4e503
CATEGORIES:Olimpiādes, konkursi
CREATED:20260423T103646
SUMMARY:Centralizētais eksāmens latviešu valodā 9.kl.
URL;VALUE=URI:https://draudzigavsk.liepaja.edu.lv/index.php/aktualitates/kalendars/notiku
 ma-detaļas/10446/-/centralizetais-eksamens-latviesu-valoda-9-kl?tmpl=compon
 ent
DESCRIPTION:<p>Mutvārdu daļa.</p> <a href="https://draudzigavsk.liepaja.edu.lv/index.ph
 p/aktualitates/kalendars/notikuma-detaļas/10446/-/centralizetais-eksamens-l
 atviesu-valoda-9-kl?tmpl=component">Šis notikums tika importēts no: https:/
 /draudzigavsk.liepaja.edu.lv/index.php/aktualitates/kalendars/notikuma-deta
 ļas/10446/-/centralizetais-eksamens-latviesu-valoda-9-kl?tmpl=component</a>DTSTAMP:20260425T131054
DTSTART:20260423T050000
DTEND:20260423T140000
SEQUENCE:0
TRANSP:OPAQUE
END:VEVENT
END:VCALENDAR