BEGIN:VCALENDAR
VERSION:2.0
PRODID:-//jEvents 2.0 for Joomla//EN
CALSCALE:GREGORIAN
METHOD:PUBLISH
BEGIN:VEVENT
UID:2f3c9cb96dfaf2f52a171cdd7a86e587
CATEGORIES:Olimpiādes, konkursi
CREATED:20260423T103541
SUMMARY:Centralizētais eksāmens latviešu valodā 9.kl.
URL;VALUE=URI:https://draudzigavsk.liepaja.edu.lv/index.php/aktualitates/kalendars/notiku
 ma-detaļas/10444/-/centralizetais-eksamens-latviesu-valoda-9-kl?tmpl=compon
 ent
DESCRIPTION:<p>Rakstu un mutvārdu daļa.</p> <a href="https://draudzigavsk.liepaja.edu.l
 v/index.php/aktualitates/kalendars/notikuma-detaļas/10444/-/centralizetais-
 eksamens-latviesu-valoda-9-kl?tmpl=component">Šis notikums tika importēts n
 o: https://draudzigavsk.liepaja.edu.lv/index.php/aktualitates/kalendars/not
 ikuma-detaļas/10444/-/centralizetais-eksamens-latviesu-valoda-9-kl?tmpl=com
 ponent</a>DTSTAMP:20260425T160928
DTSTART;VALUE=DATE:20260423
DTEND;VALUE=DATE:20260424
SEQUENCE:0
TRANSP:OPAQUE
END:VEVENT
END:VCALENDAR