BEGIN:VCALENDAR
VERSION:2.0
PRODID:-//jEvents 2.0 for Joomla//EN
CALSCALE:GREGORIAN
METHOD:PUBLISH
BEGIN:VEVENT
UID:9168b574c868b6ae26e9e4375ad03295
CATEGORIES:Olimpiādes, konkursi
CREATED:20260423T103139
SUMMARY:Liepājas valstspilsētas pētniecisko darbu aizstāvēšana 4.-9.kl.
URL;VALUE=URI:https://draudzigavsk.liepaja.edu.lv/index.php/aktualitates/kalendars/notiku
 ma-detaļas/10442/-/liepajas-valstspilsetas-petniecisko-darbu-aizstavesana-4
 -9-kl?tmpl=component
DESCRIPTION:Liepājas J.Čakstes vidusskolā\n Šis notikums tika importēts no: https://dra
 udzigavsk.liepaja.edu.lv/index.php/aktualitates/kalendars/notikuma-detaļas/
 10442/-/liepajas-valstspilsetas-petniecisko-darbu-aizstavesana-4-9-kl?tmpl=
 component
X-ALT-DESC;FMTTYPE=text/html:<p>Liepājas J.Čakstes vidusskolā</p> <a href="https://draudzigavsk.liepaja.
 edu.lv/index.php/aktualitates/kalendars/notikuma-detaļas/10442/-/liepajas-v
 alstspilsetas-petniecisko-darbu-aizstavesana-4-9-kl?tmpl=component">Šis not
 ikums tika importēts no: https://draudzigavsk.liepaja.edu.lv/index.php/aktu
 alitates/kalendars/notikuma-detaļas/10442/-/liepajas-valstspilsetas-petniec
 isko-darbu-aizstavesana-4-9-kl?tmpl=component</a>DTSTAMP:20260425T162621
DTSTART;VALUE=DATE:20260506
DTEND;VALUE=DATE:20260507
SEQUENCE:0
TRANSP:OPAQUE
END:VEVENT
END:VCALENDAR