BEGIN:VCALENDAR
VERSION:2.0
PRODID:-//jEvents 2.0 for Joomla//EN
CALSCALE:GREGORIAN
METHOD:PUBLISH
BEGIN:VEVENT
UID:a2e3a1ddbb93a56d7206e267c7b36238
CATEGORIES:Olimpiādes, konkursi
CREATED:20260423T102757
SUMMARY:Liepājas valstspilsētas vācu valodas olimpiāde 8.kl.
URL;VALUE=URI:https://draudzigavsk.liepaja.edu.lv/index.php/aktualitates/kalendars/notiku
 ma-detaļas/10440/-/liepajas-valstspilsetas-vacu-valodas-olimpiade-8-kl?tmpl
 =component
DESCRIPTION: Šis notikums tika importēts no: https://draudzigavsk.liepaja.edu.lv/index.
 php/aktualitates/kalendars/notikuma-detaļas/10440/-/liepajas-valstspilsetas
 -vacu-valodas-olimpiade-8-kl?tmpl=component
X-ALT-DESC;FMTTYPE=text/html: <a href="https://draudzigavsk.liepaja.edu.lv/index.php/aktualitates/kalend
 ars/notikuma-detaļas/10440/-/liepajas-valstspilsetas-vacu-valodas-olimpiade
 -8-kl?tmpl=component">Šis notikums tika importēts no: https://draudzigavsk.
 liepaja.edu.lv/index.php/aktualitates/kalendars/notikuma-detaļas/10440/-/li
 epajas-valstspilsetas-vacu-valodas-olimpiade-8-kl?tmpl=component</a>DTSTAMP:20260425T130842
DTSTART:20260422T070000
SEQUENCE:0
TRANSP:OPAQUE
END:VEVENT
END:VCALENDAR