BEGIN:VCALENDAR
VERSION:2.0
PRODID:-//jEvents 2.0 for Joomla//EN
CALSCALE:GREGORIAN
METHOD:PUBLISH
BEGIN:VEVENT
UID:3788cde229e7fe0ea4dcd3a59388777f
CATEGORIES:Valsts pārbaudes darbi
CREATED:20260423T102511
SUMMARY:Monitoringa darbs tekstpratībā 6.kl.
URL;VALUE=URI:https://draudzigavsk.liepaja.edu.lv/index.php/aktualitates/kalendars/notiku
 ma-detaļas/10439/-/monitoringa-darbs-tekstpratiba-6-kl?tmpl=component
DESCRIPTION: Šis notikums tika importēts no: https://draudzigavsk.liepaja.edu.lv/index.
 php/aktualitates/kalendars/notikuma-detaļas/10439/-/monitoringa-darbs-tekst
 pratiba-6-kl?tmpl=component
X-ALT-DESC;FMTTYPE=text/html: <a href="https://draudzigavsk.liepaja.edu.lv/index.php/aktualitates/kalend
 ars/notikuma-detaļas/10439/-/monitoringa-darbs-tekstpratiba-6-kl?tmpl=compo
 nent">Šis notikums tika importēts no: https://draudzigavsk.liepaja.edu.lv/i
 ndex.php/aktualitates/kalendars/notikuma-detaļas/10439/-/monitoringa-darbs-
 tekstpratiba-6-kl?tmpl=component</a>DTSTAMP:20260425T130913
DTSTART:20260415T070000
DTEND:20260415T082000
SEQUENCE:0
TRANSP:OPAQUE
END:VEVENT
END:VCALENDAR