BEGIN:VCALENDAR
VERSION:2.0
PRODID:-//jEvents 2.0 for Joomla//EN
CALSCALE:GREGORIAN
METHOD:PUBLISH
BEGIN:VEVENT
UID:62fde71c3f9336b7fe5f7b55efc4dd40
CATEGORIES:Valsts pārbaudes darbi
CREATED:20260423T102411
SUMMARY:Monitoringa darbs dabaszinībās 6.kl.
URL;VALUE=URI:https://draudzigavsk.liepaja.edu.lv/index.php/aktualitates/kalendars/notiku
 ma-detaļas/10438/-/monitoringa-darbs-dabaszinibas-6-kl?tmpl=component
DESCRIPTION: <a href="https://draudzigavsk.liepaja.edu.lv/index.php/aktualitates/kalend
 ars/notikuma-detaļas/10438/-/monitoringa-darbs-dabaszinibas-6-kl?tmpl=compo
 nent">Šis notikums tika importēts no: https://draudzigavsk.liepaja.edu.lv/i
 ndex.php/aktualitates/kalendars/notikuma-detaļas/10438/-/monitoringa-darbs-
 dabaszinibas-6-kl?tmpl=component</a>DTSTAMP:20260425T131550
DTSTART:20260423T070000
DTEND:20260423T082000
SEQUENCE:0
TRANSP:OPAQUE
END:VEVENT
END:VCALENDAR