BEGIN:VCALENDAR
VERSION:2.0
PRODID:-//jEvents 2.0 for Joomla//EN
CALSCALE:GREGORIAN
METHOD:PUBLISH
BEGIN:VEVENT
UID:e58344b6e0323cc24b53dccebb235248
CATEGORIES:Valsts pārbaudes darbi
CREATED:20260423T102322
SUMMARY:Monitoringa darbs tekstpratībā 6.kl.
URL;VALUE=URI:https://draudzigavsk.liepaja.edu.lv/index.php/aktualitates/kalendars/notiku
 ma-detaļas/10437/-/monitoringa-darbs-tekstpratiba-6-kl?tmpl=component
DESCRIPTION: <a href="https://draudzigavsk.liepaja.edu.lv/index.php/aktualitates/kalend
 ars/notikuma-detaļas/10437/-/monitoringa-darbs-tekstpratiba-6-kl?tmpl=compo
 nent">Šis notikums tika importēts no: https://draudzigavsk.liepaja.edu.lv/i
 ndex.php/aktualitates/kalendars/notikuma-detaļas/10437/-/monitoringa-darbs-
 tekstpratiba-6-kl?tmpl=component</a>DTSTAMP:20260425T130954
DTSTART:20260420T070000
DTEND:20260420T082000
SEQUENCE:0
TRANSP:OPAQUE
END:VEVENT
END:VCALENDAR