BEGIN:VCALENDAR
VERSION:2.0
PRODID:-//jEvents 2.0 for Joomla//EN
CALSCALE:GREGORIAN
METHOD:PUBLISH
BEGIN:VEVENT
UID:57dd692262d624f90b6b78f900dab9b5
CATEGORIES:Pasākumi
CREATED:20260420T152212
SUMMARY:JDK "Jumītis" 25.gadu jubilejas koncerts
URL;VALUE=URI:https://draudzigavsk.liepaja.edu.lv/index.php/aktualitates/kalendars/notiku
 ma-detaļas/10432/-/jdk-jumitis-25-gadu-jubilejas-koncerts?tmpl=component
DESCRIPTION: <a href="https://draudzigavsk.liepaja.edu.lv/index.php/aktualitates/kalend
 ars/notikuma-detaļas/10432/-/jdk-jumitis-25-gadu-jubilejas-koncerts?tmpl=co
 mponent">Šis notikums tika importēts no: https://draudzigavsk.liepaja.edu.l
 v/index.php/aktualitates/kalendars/notikuma-detaļas/10432/-/jdk-jumitis-25-
 gadu-jubilejas-koncerts?tmpl=component</a>DTSTAMP:20260421T112923
DTSTART:20260516T130000
DTEND:20260516T170000
SEQUENCE:0
TRANSP:OPAQUE
END:VEVENT
END:VCALENDAR