BEGIN:VCALENDAR
VERSION:2.0
PRODID:-//jEvents 2.0 for Joomla//EN
CALSCALE:GREGORIAN
METHOD:PUBLISH
BEGIN:VEVENT
UID:1b3a3c9b21c21679852e824a6de8c2a3
CATEGORIES:Pasākumi
CREATED:20260420T152116
SUMMARY:Liepājas Draudzīgā aicinājuma vidusskolas skolēnu un skolotāju godināšanas pasākums
URL;VALUE=URI:https://draudzigavsk.liepaja.edu.lv/index.php/aktualitates/kalendars/notiku
 ma-detaļas/10431/-/liepajas-draudziga-aicinajuma-vidusskolas-skolenu-un-sko
 lotaju-godinasanas-pasakums?tmpl=component
DESCRIPTION: Šis notikums tika importēts no: https://draudzigavsk.liepaja.edu.lv/index.
 php/aktualitates/kalendars/notikuma-detaļas/10431/-/liepajas-draudziga-aici
 najuma-vidusskolas-skolenu-un-skolotaju-godinasanas-pasakums?tmpl=component
X-ALT-DESC;FMTTYPE=text/html: <a href="https://draudzigavsk.liepaja.edu.lv/index.php/aktualitates/kalend
 ars/notikuma-detaļas/10431/-/liepajas-draudziga-aicinajuma-vidusskolas-skol
 enu-un-skolotaju-godinasanas-pasakums?tmpl=component">Šis notikums tika imp
 ortēts no: https://draudzigavsk.liepaja.edu.lv/index.php/aktualitates/kalen
 dars/notikuma-detaļas/10431/-/liepajas-draudziga-aicinajuma-vidusskolas-sko
 lenu-un-skolotaju-godinasanas-pasakums?tmpl=component</a>DTSTAMP:20260421T112924
DTSTART:20260514T120000
DTEND:20260514T140000
SEQUENCE:0
TRANSP:OPAQUE
END:VEVENT
END:VCALENDAR