BEGIN:VCALENDAR
VERSION:2.0
PRODID:-//jEvents 2.0 for Joomla//EN
CALSCALE:GREGORIAN
METHOD:PUBLISH
BEGIN:VEVENT
UID:07ae56194d4cb6deb7320233bf550818
CATEGORIES:Pasākumi
CREATED:20260420T151937
SUMMARY:"Pēdējais zvans" 9.kl.
URL;VALUE=URI:https://draudzigavsk.liepaja.edu.lv/index.php/aktualitates/kalendars/notiku
 ma-detaļas/10430/-/pedejais-zvans-9-kl?tmpl=component
DESCRIPTION: Šis notikums tika importēts no: https://draudzigavsk.liepaja.edu.lv/index.
 php/aktualitates/kalendars/notikuma-detaļas/10430/-/pedejais-zvans-9-kl?tmp
 l=component
X-ALT-DESC;FMTTYPE=text/html: <a href="https://draudzigavsk.liepaja.edu.lv/index.php/aktualitates/kalend
 ars/notikuma-detaļas/10430/-/pedejais-zvans-9-kl?tmpl=component">Šis notiku
 ms tika importēts no: https://draudzigavsk.liepaja.edu.lv/index.php/aktuali
 tates/kalendars/notikuma-detaļas/10430/-/pedejais-zvans-9-kl?tmpl=component
 </a>DTSTAMP:20260421T112924
DTSTART:20260515T090000
DTEND:20260515T103000
SEQUENCE:0
TRANSP:OPAQUE
END:VEVENT
END:VCALENDAR