BEGIN:VCALENDAR
VERSION:2.0
PRODID:-//jEvents 2.0 for Joomla//EN
CALSCALE:GREGORIAN
METHOD:PUBLISH
BEGIN:VEVENT
UID:011906349dc37117a83ee0f183db8b48
CATEGORIES:Valsts pārbaudes darbi
CREATED:20260420T151737
SUMMARY:Monitoringa darbs dabaszinātņu mācību jomā 9.kl.
URL;VALUE=URI:https://draudzigavsk.liepaja.edu.lv/index.php/aktualitates/kalendars/notiku
 ma-detaļas/10429/-/monitoringa-darbs-dabaszinatnu-macibu-joma-9-kl?tmpl=com
 ponent
DESCRIPTION: <a href="https://draudzigavsk.liepaja.edu.lv/index.php/aktualitates/kalend
 ars/notikuma-detaļas/10429/-/monitoringa-darbs-dabaszinatnu-macibu-joma-9-k
 l?tmpl=component">Šis notikums tika importēts no: https://draudzigavsk.liep
 aja.edu.lv/index.php/aktualitates/kalendars/notikuma-detaļas/10429/-/monito
 ringa-darbs-dabaszinatnu-macibu-joma-9-kl?tmpl=component</a>DTSTAMP:20260421T104408
DTSTART:20260428T053000
DTEND:20260428T073000
SEQUENCE:0
TRANSP:OPAQUE
END:VEVENT
END:VCALENDAR