BEGIN:VCALENDAR
VERSION:2.0
PRODID:-//jEvents 2.0 for Joomla//EN
CALSCALE:GREGORIAN
METHOD:PUBLISH
BEGIN:VEVENT
UID:179339c7f5428008b39681fc027561fd
CATEGORIES:Valsts pārbaudes darbi
CREATED:20260420T151630
SUMMARY:Monitoringa darbs svešvalodā 9.kl.
URL;VALUE=URI:https://draudzigavsk.liepaja.edu.lv/index.php/aktualitates/kalendars/notiku
 ma-detaļas/10428/-/monitoringa-darbs-svesvaloda-9-kl?tmpl=component
DESCRIPTION: <a href="https://draudzigavsk.liepaja.edu.lv/index.php/aktualitates/kalend
 ars/notikuma-detaļas/10428/-/monitoringa-darbs-svesvaloda-9-kl?tmpl=compone
 nt">Šis notikums tika importēts no: https://draudzigavsk.liepaja.edu.lv/ind
 ex.php/aktualitates/kalendars/notikuma-detaļas/10428/-/monitoringa-darbs-sv
 esvaloda-9-kl?tmpl=component</a>DTSTAMP:20260421T104408
DTSTART:20260422T070000
DTEND:20260424T120000
SEQUENCE:0
TRANSP:OPAQUE
END:VEVENT
END:VCALENDAR