BEGIN:VCALENDAR
VERSION:2.0
PRODID:-//jEvents 2.0 for Joomla//EN
CALSCALE:GREGORIAN
METHOD:PUBLISH
BEGIN:VEVENT
UID:c35260193d6e21d6f195b1aaac5b2f1e
CATEGORIES:Olimpiādes, konkursi
CREATED:20260420T151533
SUMMARY:Skatuves runas konkurss vācu valodā 2.kl.
URL;VALUE=URI:https://draudzigavsk.liepaja.edu.lv/index.php/aktualitates/kalendars/notiku
 ma-detaļas/10427/-/skatuves-runas-konkurss-vacu-valoda-2-kl?tmpl=component
DESCRIPTION: <a href="https://draudzigavsk.liepaja.edu.lv/index.php/aktualitates/kalend
 ars/notikuma-detaļas/10427/-/skatuves-runas-konkurss-vacu-valoda-2-kl?tmpl=
 component">Šis notikums tika importēts no: https://draudzigavsk.liepaja.edu
 .lv/index.php/aktualitates/kalendars/notikuma-detaļas/10427/-/skatuves-runa
 s-konkurss-vacu-valoda-2-kl?tmpl=component</a>DTSTAMP:20260421T112923
DTSTART:20260424T101500
DTEND:20260424T130000
SEQUENCE:0
TRANSP:OPAQUE
END:VEVENT
END:VCALENDAR