BEGIN:VCALENDAR
VERSION:2.0
PRODID:-//jEvents 2.0 for Joomla//EN
CALSCALE:GREGORIAN
METHOD:PUBLISH
BEGIN:VEVENT
UID:b99360437e3f745d4fa4d590b4be7085
CATEGORIES:Valsts pārbaudes darbi
CREATED:20260420T151434
SUMMARY:Monitoringa darbs rēķinpratībā 3.kl.
URL;VALUE=URI:https://draudzigavsk.liepaja.edu.lv/index.php/aktualitates/kalendars/notiku
 ma-detaļas/10426/-/monitoringa-darbs-rekinpratiba-3-kl?tmpl=component
DESCRIPTION: <a href="https://draudzigavsk.liepaja.edu.lv/index.php/aktualitates/kalend
 ars/notikuma-detaļas/10426/-/monitoringa-darbs-rekinpratiba-3-kl?tmpl=compo
 nent">Šis notikums tika importēts no: https://draudzigavsk.liepaja.edu.lv/i
 ndex.php/aktualitates/kalendars/notikuma-detaļas/10426/-/monitoringa-darbs-
 rekinpratiba-3-kl?tmpl=component</a>DTSTAMP:20260421T104408
DTSTART:20260423T071000
DTEND:20260423T081000
SEQUENCE:0
TRANSP:OPAQUE
END:VEVENT
END:VCALENDAR