BEGIN:VCALENDAR
VERSION:2.0
PRODID:-//jEvents 2.0 for Joomla//EN
CALSCALE:GREGORIAN
METHOD:PUBLISH
BEGIN:VEVENT
UID:b1b8d6aae9e7bd130bbee1bdb5db120d
CATEGORIES:Valsts pārbaudes darbi
CREATED:20260420T151310
SUMMARY:Monitoringa darbs dabaszinātņu pratībā 3.kl.
URL;VALUE=URI:https://draudzigavsk.liepaja.edu.lv/index.php/aktualitates/kalendars/notiku
 ma-detaļas/10425/-/monitoringa-darbs-dabaszinatnu-pratiba-3-kl?tmpl=compone
 nt
DESCRIPTION: Šis notikums tika importēts no: https://draudzigavsk.liepaja.edu.lv/index.
 php/aktualitates/kalendars/notikuma-detaļas/10425/-/monitoringa-darbs-dabas
 zinatnu-pratiba-3-kl?tmpl=component
X-ALT-DESC;FMTTYPE=text/html: <a href="https://draudzigavsk.liepaja.edu.lv/index.php/aktualitates/kalend
 ars/notikuma-detaļas/10425/-/monitoringa-darbs-dabaszinatnu-pratiba-3-kl?tm
 pl=component">Šis notikums tika importēts no: https://draudzigavsk.liepaja.
 edu.lv/index.php/aktualitates/kalendars/notikuma-detaļas/10425/-/monitoring
 a-darbs-dabaszinatnu-pratiba-3-kl?tmpl=component</a>DTSTAMP:20260425T130913
DTSTART:20260416T070000
DTEND:20260416T080000
SEQUENCE:0
TRANSP:OPAQUE
END:VEVENT
END:VCALENDAR