BEGIN:VCALENDAR
VERSION:2.0
PRODID:-//jEvents 2.0 for Joomla//EN
CALSCALE:GREGORIAN
METHOD:PUBLISH
BEGIN:VEVENT
UID:b02345c7adccf5275b3c75f7e475031d
CATEGORIES:Valsts pārbaudes darbi
CREATED:20260420T151229
SUMMARY:Monitoringa darbs tekstpratībā 3.kl.
URL;VALUE=URI:https://draudzigavsk.liepaja.edu.lv/index.php/aktualitates/kalendars/notiku
 ma-detaļas/10424/-/monitoringa-darbs-tekstpratiba-3-kl?tmpl=component
DESCRIPTION: <a href="https://draudzigavsk.liepaja.edu.lv/index.php/aktualitates/kalend
 ars/notikuma-detaļas/10424/-/monitoringa-darbs-tekstpratiba-3-kl?tmpl=compo
 nent">Šis notikums tika importēts no: https://draudzigavsk.liepaja.edu.lv/i
 ndex.php/aktualitates/kalendars/notikuma-detaļas/10424/-/monitoringa-darbs-
 tekstpratiba-3-kl?tmpl=component</a>DTSTAMP:20260425T130954
DTSTART:20260413T070000
DTEND:20260413T080000
SEQUENCE:0
TRANSP:OPAQUE
END:VEVENT
END:VCALENDAR